BEGIN:VCALENDAR
VERSION:2.0
PRODID:-//www.Rondoprinz - ECPv6.0.13//NONSGML v1.0//EN
CALSCALE:GREGORIAN
METHOD:PUBLISH
X-WR-CALNAME:www.Rondoprinz
X-ORIGINAL-URL:https://rondoprinz.de
X-WR-CALDESC:Veranstaltungen für www.Rondoprinz
REFRESH-INTERVAL;VALUE=DURATION:PT1H
X-Robots-Tag:noindex
X-PUBLISHED-TTL:PT1H
BEGIN:VTIMEZONE
TZID:UTC
BEGIN:STANDARD
TZOFFSETFROM:+0000
TZOFFSETTO:+0000
TZNAME:UTC
DTSTART:20260101T000000
END:STANDARD
END:VTIMEZONE
BEGIN:VEVENT
DTSTART;TZID=UTC:20260508T180000
DTEND;TZID=UTC:20260508T200000
DTSTAMP:20260425T120921
CREATED:20260401T073727Z
LAST-MODIFIED:20260401T073727Z
UID:15506-1778263200-1778270400@rondoprinz.de
SUMMARY:Rondoprinz live beim 1. Hombrucher Straßenmusikfestival\, Hombruch Unplugged mit XXL Picknick
DESCRIPTION:
URL:https://rondoprinz.de/event/rondoprinz-live-beim-1-hombrucher-strassenmusikfestival-hombruch-unplugged-mit-xxl-picknick/
LOCATION:Dortmund Hombruch Fußgängerzone\, Harkortstraße\, Main Stage an der Sparkasse\, Harkortstraße\, Dortmund\, 44225
END:VEVENT
BEGIN:VEVENT
DTSTART;TZID=UTC:20260612T200000
DTEND;TZID=UTC:20260612T220000
DTSTAMP:20260425T120921
CREATED:20260415T104747Z
LAST-MODIFIED:20260415T104747Z
UID:15510-1781294400-1781301600@rondoprinz.de
SUMMARY:Rondoprinz live im Subrosa Dortmund\, Friday Night Music Club
DESCRIPTION:
URL:https://rondoprinz.de/event/rondoprinz-live-im-subrosa-dortmund-friday-night-music-club/
LOCATION:Subrosa Hafenschänke\, Gneisenaustraße 56\, Dortmund\, 44147
END:VEVENT
BEGIN:VEVENT
DTSTART;TZID=UTC:20260731T180000
DTEND;TZID=UTC:20260731T190000
DTSTAMP:20260425T120921
CREATED:20260208T150457Z
LAST-MODIFIED:20260208T150519Z
UID:15477-1785520800-1785524400@rondoprinz.de
SUMMARY:Rondoprinz bei der Kulturreihe "Freitag18"
DESCRIPTION:
URL:https://rondoprinz.de/event/rondoprinz-bei-der-kulturreihe-freitag18/
LOCATION:Gütersloh\, Dreiecksplatz\, Königstr.42\, Gütersloh\, 33330\, Germany
END:VEVENT
END:VCALENDAR